BEGIN:VCALENDAR
VERSION:2.0
PRODID:-//Foster Love Adopt Repeat - ECPv6.15.20//NONSGML v1.0//EN
CALSCALE:GREGORIAN
METHOD:PUBLISH
X-ORIGINAL-URL:https://weflar.org
X-WR-CALDESC:Events for Foster Love Adopt Repeat
REFRESH-INTERVAL;VALUE=DURATION:PT1H
X-Robots-Tag:noindex
X-PUBLISHED-TTL:PT1H
BEGIN:VTIMEZONE
TZID:America/New_York
BEGIN:DAYLIGHT
TZOFFSETFROM:-0500
TZOFFSETTO:-0400
TZNAME:EDT
DTSTART:20250309T070000
END:DAYLIGHT
BEGIN:STANDARD
TZOFFSETFROM:-0400
TZOFFSETTO:-0500
TZNAME:EST
DTSTART:20251102T060000
END:STANDARD
BEGIN:DAYLIGHT
TZOFFSETFROM:-0500
TZOFFSETTO:-0400
TZNAME:EDT
DTSTART:20260308T070000
END:DAYLIGHT
BEGIN:STANDARD
TZOFFSETFROM:-0400
TZOFFSETTO:-0500
TZNAME:EST
DTSTART:20261101T060000
END:STANDARD
BEGIN:DAYLIGHT
TZOFFSETFROM:-0500
TZOFFSETTO:-0400
TZNAME:EDT
DTSTART:20270314T070000
END:DAYLIGHT
BEGIN:STANDARD
TZOFFSETFROM:-0400
TZOFFSETTO:-0500
TZNAME:EST
DTSTART:20271107T060000
END:STANDARD
END:VTIMEZONE
BEGIN:VEVENT
DTSTART;TZID=America/New_York:20260401T100000
DTEND;TZID=America/New_York:20260401T110000
DTSTAMP:20260420T062814
CREATED:20260209T041646Z
LAST-MODIFIED:20260318T013106Z
UID:6357-1775037600-1775041200@weflar.org
SUMMARY:Mom's Morning Coffee
DESCRIPTION:Join other foster\, adoptive\, kinship\, and guardianship moms for a relaxed morning of connection and encouragement. Swing by for coffee or tea\, light snacks\, and community—come as you are.
URL:https://weflar.org/event/moms-morning-coffee/
LOCATION:Foster Love Adopt Repeat Offices\, 131 Overhill Dr Suite 116\, Mooresville\, NC\, 28117\, United States
CATEGORIES:Social
ATTACH;FMTTYPE=image/jpeg:https://weflar.org/wp-content/uploads/2026/02/FLAR-Moms-Morning-Coffee-JB.jpg
ORGANIZER;CN="Foster Love Adopt Repeat":MAILTO:fosterloveadoptrepeat@gmail.com
END:VEVENT
BEGIN:VEVENT
DTSTART;TZID=America/New_York:20260326T120000
DTEND;TZID=America/New_York:20260326T130000
DTSTAMP:20260420T062814
CREATED:20260216T202224Z
LAST-MODIFIED:20260318T011852Z
UID:6417-1774526400-1774530000@weflar.org
SUMMARY:Lunch Break @ FLAR
DESCRIPTION:Foster\, adoptive\, kinship\, and guardianship parents—take a midday breather with us! Join FLAR for a relaxed lunch break to connect\, recharge\, and build community. Lunch will be provided or you can bring your own.
URL:https://weflar.org/event/lunch-break-flar-5/
LOCATION:Foster Love Adopt Repeat Offices\, 131 Overhill Dr Suite 116\, Mooresville\, NC\, 28117\, United States
CATEGORIES:Social
ATTACH;FMTTYPE=image/jpeg:https://weflar.org/wp-content/uploads/2026/02/FLAR-Lunch-Break-JB-scaled.jpg
ORGANIZER;CN="Foster Love Adopt Repeat":MAILTO:fosterloveadoptrepeat@gmail.com
END:VEVENT
BEGIN:VEVENT
DTSTART;TZID=America/New_York:20260226T120000
DTEND;TZID=America/New_York:20260226T130000
DTSTAMP:20260420T062814
CREATED:20260209T041645Z
LAST-MODIFIED:20260209T042111Z
UID:6356-1772107200-1772110800@weflar.org
SUMMARY:Lunch Break @ FLAR
DESCRIPTION:Foster\, adoptive\, kinship\, and guardianship parents—take a midday breather with us! Join FLAR for a relaxed lunch break to connect\, recharge\, and build community.
URL:https://weflar.org/event/lunch-break-flar/
LOCATION:Foster Love Adopt Repeat Offices\, 131 Overhill Dr Suite 116\, Mooresville\, NC\, 28117\, United States
CATEGORIES:Social
ATTACH;FMTTYPE=image/jpeg:https://weflar.org/wp-content/uploads/2026/02/FLAR-Lunch-Break-JB-scaled.jpg
ORGANIZER;CN="Foster Love Adopt Repeat":MAILTO:fosterloveadoptrepeat@gmail.com
END:VEVENT
END:VCALENDAR